BEGIN:VCALENDAR
VERSION:2.0
PRODID:-//All About Magazine - ECPv6.15.20//NONSGML v1.0//EN
CALSCALE:GREGORIAN
METHOD:PUBLISH
X-ORIGINAL-URL:https://allaboutmagazine.co.uk
X-WR-CALDESC:Events for All About Magazine
REFRESH-INTERVAL;VALUE=DURATION:PT1H
X-Robots-Tag:noindex
X-PUBLISHED-TTL:PT1H
BEGIN:VTIMEZONE
TZID:UTC
BEGIN:STANDARD
TZOFFSETFROM:+0000
TZOFFSETTO:+0000
TZNAME:UTC
DTSTART:20210101T000000
END:STANDARD
END:VTIMEZONE
BEGIN:VEVENT
DTSTART;TZID=UTC:20240315T183000
DTEND;TZID=UTC:20240315T230000
DTSTAMP:20260423T133512
CREATED:20240103T131851Z
LAST-MODIFIED:20240103T131851Z
UID:33513-1710527400-1710543600@allaboutmagazine.co.uk
SUMMARY:St Patrick's Day Irish Festival
DESCRIPTION:Join us at the St Patrick’s Irish Festival for the best craic Milton Keynes has ever seen! \nPack your shamrocks and bring your favourite leprechaun\, as we celebrate with the best St Patrick’s day festival\, this side of the Irish sea. \nThe Irish always know how to celebrate\, so get ready for the best in Irish party entertainment. Enjoy some good ol’ Irish singalong with live performances from a traditional Irish band\, followed by some traditional Irish dancing where you can practice your best jig\, before a DJ takes the stage to bang out some awesome party tunes. \nSo\, get your finest green gear on and be part of the best celebration of the year! Invite your friends and book your tickets now for 15 or 16 March 2024…
URL:https://allaboutmagazine.co.uk/whatson/st-patricks-day-irish-festival/
LOCATION:Willen Lake\, Willen Lake\, V10 Brickhill Street\, Milton Keynes\, MK150DS\, United Kingdom
CATEGORIES:Nights Out,To Do,Willen Lake
END:VEVENT
BEGIN:VEVENT
DTSTART;TZID=UTC:20240303T110000
DTEND;TZID=UTC:20240303T160000
DTSTAMP:20260423T133512
CREATED:20240103T130445Z
LAST-MODIFIED:20240103T130445Z
UID:33510-1709463600-1709481600@allaboutmagazine.co.uk
SUMMARY:Milton Keynes Wedding Show
DESCRIPTION:FREE ENTRY!  \nThis Wedding Show is in it’s 16th great year\, come and visit the fabulous ballroom at the DoubleTree by Hilton Hotel Milton Keynes at the Stadium MK\, home of the MK Dons. \nThere are around 80 exhibitors to see at this show\, all local to this area with great reputations. You will also see some great wedding cars outside the entrance too! See a video of a previous show on our YouTube channel. \nThe wedding show runs from 11am – 4pm and admission is free! Please ensure you have paid for parking if you are parked in the pay for parking area. \nIf you would like further information on this show or any other show\, please feel free to contact us on 01908 305123 or email events@centralexhibitions.co.uk. \nBy registering for this event\, you will be added to the mailing list about future wedding shows from Central Exhibitions. Your details will not be passed onto a 3rd party including any of the suppliers. You can read our GDPR policy here and can unsubscribe at any time by emailing events@centralexhibitions.co.uk.
URL:https://allaboutmagazine.co.uk/whatson/milton-keynes-wedding-show-2/
LOCATION:Doubletree by Hilton\, Stadium Way West\, Milton Keynes\, Bucks\,  MK1 1ST\, United Kingdom
CATEGORIES:Exhibitions,To Do,Wedding Show
END:VEVENT
BEGIN:VEVENT
DTSTART;TZID=UTC:20240222T093000
DTEND;TZID=UTC:20240222T110000
DTSTAMP:20260423T133512
CREATED:20240126T093104Z
LAST-MODIFIED:20240126T093104Z
UID:33574-1708594200-1708599600@allaboutmagazine.co.uk
SUMMARY:Breakfast with BJÖRN
DESCRIPTION:This half term\, we invite our IKEA Family members to join BJÖRN for breakfast at IKEA.\nChildren can also get involved with some BJÖRN crafty activities.\nBe sure not to miss it – book a seat with BJÖRN today.\nPoints to note: You must be an IKEA Family member to book (join for free on our website:https://www.ikea.com/gb/en/ikea-family/). Children’s breakfast is £1.50. Food and drinks will be available to purchase in the restaurant.
URL:https://allaboutmagazine.co.uk/whatson/breakfastwithbjorn-2/
LOCATION:Ikea\, Goslington\, Bletcham Wy.\,\, Bletchley\, Milton Keynes\, MK1 1QB\, United Kingdom
CATEGORIES:Kids Fun,To Do
END:VEVENT
BEGIN:VEVENT
DTSTART;TZID=UTC:20240221T093000
DTEND;TZID=UTC:20240221T110000
DTSTAMP:20260423T133512
CREATED:20240126T092647Z
LAST-MODIFIED:20240126T092647Z
UID:33570-1708507800-1708513200@allaboutmagazine.co.uk
SUMMARY:Breakfast with BJÖRN
DESCRIPTION:This half term\, we invite our IKEA Family members to join BJÖRN for breakfast at IKEA.\nChildren can also get involved with some BJÖRN crafty activities.\nBe sure not to miss it – book a seat with BJÖRN today.\nPoints to note: You must be an IKEA Family member to book (join for free on our website:https://www.ikea.com/gb/en/ikea-family/). Children’s breakfast is £1.50. Food and drinks will be available to purchase in the restaurant.
URL:https://allaboutmagazine.co.uk/whatson/breakfastwithbjorn/
LOCATION:Ikea\, Goslington\, Bletcham Wy.\,\, Bletchley\, Milton Keynes\, MK1 1QB\, United Kingdom
CATEGORIES:Kids Fun,To Do
END:VEVENT
BEGIN:VEVENT
DTSTART;TZID=UTC:20240213T080000
DTEND;TZID=UTC:20240213T140000
DTSTAMP:20260423T133512
CREATED:20240103T140433Z
LAST-MODIFIED:20240103T140433Z
UID:33519-1707811200-1707832800@allaboutmagazine.co.uk
SUMMARY:Olney Pancake Race
DESCRIPTION:The historic Olney Pancake Race takes place on Shrove Tuesday 13 February 2024. \nThe town has played host to the race over many years; it’s reputed to have taken place since 1445 and has certainly run every year since 1948\, except for 2021. It attracts female runners who live or work in the town – dressed in a skirt and head scarf and clutching their frying pan and pancake\, they run the 415-yard course from the Market Place\, down the High Street to the race finish outside St Peter and St Paul’s Church. \nAhead of the race itself\, there are lots of activities taking place in the Market Place\, starting with a special pancake breakfast\, prepared by local chef\, Ben Francis from the Cherry Tree Pub and Restaurant. With stalls\, even more pancakes\, music\, a grand raffle\, plus races for local nurseries and school children\, there will be something for everyone. \nAll the runners join visitors in a Shriving Service which is held in the church immediately after the race.
URL:https://allaboutmagazine.co.uk/whatson/olney-pancake-race/
LOCATION:Market Place\, Olney\, MK46 4AJ
CATEGORIES:Family Fun,To Do
END:VEVENT
BEGIN:VEVENT
DTSTART;TZID=UTC:20240128T110000
DTEND;TZID=UTC:20240128T170000
DTSTAMP:20260423T133512
CREATED:20231129T093643Z
LAST-MODIFIED:20231129T093643Z
UID:33470-1706439600-1706461200@allaboutmagazine.co.uk
SUMMARY:Mind Body Spirit Wellbeing Show
DESCRIPTION:So\, you’ve made some great New Year’s resolutions\, but you’re already having trouble keeping them? If so\, this is the event for you…. Our holistic\, spiritual and self-help experts can help you create your ideal 2024. Price: General Admission GBP 2.00 Category: Classes / Courses | Lifestyle\, Arts\, Leisure | Sports\, Health & Fitness. \n 
URL:https://allaboutmagazine.co.uk/whatson/mind-body-spirit-wellbeing-show/
LOCATION:The Irish Centre\, Manor Field\, Milton Keynes\, MK2 2HX\, United Kingdom
CATEGORIES:To Do
END:VEVENT
BEGIN:VEVENT
DTSTART;VALUE=DATE:20240101
DTEND;VALUE=DATE:20240102
DTSTAMP:20260423T133512
CREATED:20231103T135150Z
LAST-MODIFIED:20231103T135150Z
UID:33384-1704067200-1704153599@allaboutmagazine.co.uk
SUMMARY:Vintage Stony
DESCRIPTION:Now in its 14th Year Vintage Stony is what we believe the UK’s largest free vintage automotive street festival with an expected attendance of over 400 cars and bikes. Through the hard work of the volunteer committee\, generosity of the Festival’s local sponsors and via donations from general public on the day the Festival has raised over £100\,000 for local charities since it started.
URL:https://allaboutmagazine.co.uk/whatson/vintage-stony/
LOCATION:Market Square\, Stony Stratford\, Milton Keynes\, United Kingdom
CATEGORIES:Family Fun,To Do
END:VEVENT
BEGIN:VEVENT
DTSTART;TZID=UTC:20231213T100000
DTEND;TZID=UTC:20231213T153000
DTSTAMP:20260423T133512
CREATED:20231115T123903Z
LAST-MODIFIED:20231115T123903Z
UID:33423-1702461600-1702481400@allaboutmagazine.co.uk
SUMMARY:Santa Paws doggy Grotto experience!
DESCRIPTION:Cherry Tree Garden Centre – Roman Way\, Potterspury. \nSanta Paws doggy Grotto experience! Wednesday 13th December – 10am – 3:30pm\nPrice – £7.99.\nCome and enjoy our delightfully festive doggy grotto experience! Your pooch will receive some festive fuss from Father Christmas as well as a special Christmas present.
URL:https://allaboutmagazine.co.uk/whatson/santa-paws-doggy-grotto-experience/
LOCATION:Cherry Tree Garden Centre\, Roman Way\, Potterspury
CATEGORIES:To Do
END:VEVENT
BEGIN:VEVENT
DTSTART;TZID=UTC:20231006T190000
DTEND;TZID=UTC:20231006T233000
DTSTAMP:20260423T133512
CREATED:20230814T112924Z
LAST-MODIFIED:20230814T112924Z
UID:33263-1696618800-1696635000@allaboutmagazine.co.uk
SUMMARY:Now! That's What I Call… Drag!
DESCRIPTION:Do you love all things drag?! Well strut right up because NOW! Thats What I CallDRAG! is here to kickstart the party with a BANG\, making their debut in MILTON KEYNES at the iconic MK11 for their biggest show to date! Serving up a classic slice of British drag cabaret\, expect electrifying lip synching\, stunning live vocals\, camp comedy\, audience games and of course CHAOS! \nStarring some of the UK’s finest drag stars Knuckle Sandwich and Will Power (with special guests TBA!) you’ll be in for the night of your lives! After their sell-out success since their debut in 2022\, you won’t want to miss the Milton Keynes debut of this ICONIC drag cabaret night. So put on those heels\, get those party frocks ready and let’s get ready for the drag mixtape to begin! Trust us\, you won’t want it to end!
URL:https://allaboutmagazine.co.uk/whatson/now-thats-what-i-call-drag/
LOCATION:MK11 – Live Music Venue\, MK11 Live Music Venue & Sports Bar\, Keller Close\, Tilers Road\, Milton Keynes\, MK11 3LH\, United Kingdom
CATEGORIES:To Do
END:VEVENT
BEGIN:VEVENT
DTSTART;VALUE=DATE:20230430
DTEND;VALUE=DATE:20230502
DTSTAMP:20260423T133512
CREATED:20230222T112326Z
LAST-MODIFIED:20230427T090146Z
UID:32956-1682812800-1682985599@allaboutmagazine.co.uk
SUMMARY:MK Marathon Weekend
DESCRIPTION:FASTER\, FLATTER\, AND EVEN MORE PHENOMENAL!\nOur multi-award-winning marathon event is consistently ranked in the top 10 UK marathons\, an AIMS-certified race\, with BARR Gold accreditation for outstanding race management. A London and Boston marathon qualifying event as well as an Abbott World Marathon Majors Wanda Age Group World Championships qualifier.  \nWe are extremely excited to announce that they are moving our massively popular event to Campbell Park\, the premium event space in Milton Keynes from 2023. We will continue to provide the same superior race day experience that you’ve come to expect when you run Milton Keynes. From registration\, the race start\, on-course entertainment\, aid stations\, finish festival\, and more\, we want to make every step of your journey easy and fun. We hope to see you at the finish! \nENGLAND ATHLETICS MASTERS QUALIFYING EVEN \nRACE DETAILS\n\nRace Day: Bank Holiday Monday 1st May 2023\nVenue: Campbell Park\nStart Time: 10:00\nCourse Time Limit: 7 Hours\nAge: Must be at least 18 years old on race day\n\n 
URL:https://allaboutmagazine.co.uk/whatson/mk-marathon/
LOCATION:Milton Keynes\, Campbell Park\, Milton Keynes\, MK9 4A\, United Kingdom
CATEGORIES:To Do
ORGANIZER;CN="MK Marathon":MAILTO:run@miltonkeynesmarathon.co.uk
END:VEVENT
BEGIN:VEVENT
DTSTART;TZID=UTC:20230313T000000
DTEND;TZID=UTC:20230313T000000
DTSTAMP:20260423T133512
CREATED:20230313T100040Z
LAST-MODIFIED:20230313T100040Z
UID:32996-1678665600-1678665600@allaboutmagazine.co.uk
SUMMARY:ABBA Drag Bottomless Brunch
DESCRIPTION:The ABBA Drag Bottomless Brunch Is Coming To MILTON KEYNES!\nYou Heard It Here First… We Are Combining ABBA\, DRAG And BRUNCH to bring you an experience like no other! Get ready to Voulez-Vous as our dazzling drag queen duo’s perform all the best ABBA classics. \nEVENT INFO:\nLive Dazzling ABBA Duo Drag Performances\n3 Hours Of Your Favourite ABBA Classics Alongside Disco Hits From The 70s/80s Mixed By Our Resident DJ!\nDress Up Encouraged! (70’s Disco)\n60 Minutes Bottomless Booze (View Menu)\nDelicious Brunch (View Menu) \nEVENT TIMES:\nDoors / Arrival Time: 12:00pm\nEvent / Entertainment:12:30pm – 3:30pm\nBottomless: 12:30pm – 1:30pm \nVENUE:\nThe Hub\, 4 Mortimer Square\, Milton Keynes MK9 2FB \nMUSIC POLICY:\nA Combination Of Your ABBA Favourites – Take A Chance On Me\, Dancing Queen\, Knowing Me Knowing You\, Fernando\, Gimme! Gimme! Gimme!\, Waterloo\, Mamma Mia\, S.O.S\, Money Money Money\, Super Trouper\, One Of Us\, Lay All Your Love On Me\, I Do I Do I Do I Do I Do\, The Winner Takes All\, Chiquitita\, Does Your Mother Know & More\nSing A Longs – Donna Summer\, Gloria Gaynor\, Kool & The Gang\, KC & The Sunshine Band\, Trammps\, Chic\, LaBelle\, The Emotions\, Wild Cherry\, Hues Corporation\, Bee Gees\, The Love Unlimited Orchestra\, Village People\, James Brown\, Diana Ross\, Barry White\, First Choice\, Earth Wind and Fire\, Spinners\, Tavares\, Prince\, Dan Hartman\, Whispers\, O’Jays\, Madonna\, Shalamar\, Lime\, Stylistics\, Eddie Kendricks\, Sylvester\, Rick James\, Change\,The Isley Brothers\, Cerrone\, Jacksons\, Stevie Wonder\, Curtis Mayfield\, Linda Clifford & Many More!\n+ All Your Favourite Party Starters\, Singalongs & Classic Club Anthems \nIMPORTANT INFO:\nThe Artists Pictured In Our Event Artwork Are Not Performing Unless Advertised In The Event Description\nSome Of Our Venues Have Large Tables & Some Groups May Be Seated Together\nFor Large Groups Please Purchase Multiple Tables Under The Same Booking Name To Be Seated Together\nPlease Read Our Brunch Club T&C / Covid Guidelines: bit.ly/TheBrunchClubTerms\nIf You Have Any Questions About Our Events / Ticketing Please Check Our Frequently Asked Questions “FAQ’s”: bit.ly/TheBrunchClubFAQs\nPackages / Large Group Bookings – Please Visit: bit.ly/TheBrunchClubPackages\nFood Allergies – Please Complete Our Allergy Form: bit.ly/TheBrunchClubContactUs\nThis Event Is 18+ (Adults Only
URL:https://allaboutmagazine.co.uk/whatson/abba-drag-bottomless-brunch/
LOCATION:The Hub\, 4 Mortimer Square\, Milton Keynes MK9 2FB
CATEGORIES:To Do
END:VEVENT
BEGIN:VEVENT
DTSTART;TZID=UTC:20230224T100000
DTEND;TZID=UTC:20230224T120000
DTSTAMP:20260423T133512
CREATED:20230109T143758Z
LAST-MODIFIED:20230427T084809Z
UID:32828-1677232800-1677240000@allaboutmagazine.co.uk
SUMMARY:Red Bull Factory Tour Experience
DESCRIPTION:Being able to visit the home of Red Bull Racing is a truly incredible opportunity that will allow you to peek behind the curtain into the extremely secretive world of F1™. \nOur tour starts in the MK7 events space with all of the actual race cars throughout the history of Red Bull Racing. The tour then visits many different departments and is designed to present the inner workings of the machine\, taking in the various developmental stages\, all the way to the point where thousands of components are brought together in our race bays to create the latest Red Bull Racing car. \nDepending on the date and timing of your visit\, there may be engineers in the operations viewing area\, important parts being created in machine shop or race cars on the floor\, either being stripped after the previous race or prepped for the next. You could also see where the race crew use our mock-up of the pitbox and a mule vehicle for pitstop practice. \nPlease note: Children under the age of 12 are not permitted. Any person under the age of 16 must be accompanied by an adult at all times \n\nAlso check out other Sports Events in Milton Keynes. \n\n\nTickets \n\nTickets for Factory Tour Experiences 2023 can be booked here. \nGet Tickets\n  \n\n\n\n\n\nTicket Information\nTicket Price\n\n\n\n\nRed Bull Racing Factory Tour Experience\nGBP 300
URL:https://allaboutmagazine.co.uk/whatson/red-bull-factory-tour-experience/
LOCATION:Red Bull Technology Campus\, Building 2\, Bradbourne Drive\, Tilbrook\, Milton Keynes\, United Kingdom
CATEGORIES:Family Fun,To Do
END:VEVENT
BEGIN:VEVENT
DTSTART;TZID=UTC:20230107T090000
DTEND;TZID=UTC:20230108T000000
DTSTAMP:20260423T133512
CREATED:20221111T121758Z
LAST-MODIFIED:20221111T121758Z
UID:32708-1673082000-1673136000@allaboutmagazine.co.uk
SUMMARY:Winter Enigma Marathon
DESCRIPTION:Event day logistics\n\n\n\nSaturday\n09:00 Race starts\nSunday\n09:00 Race starts\n*There will be a mandatory race briefing 10 minutes before the races which all entrants must attend.\nAge Requirements\nAll entrants must be 18 and older to take part in the event.\nCut-Off Times\nThere is a cut-off time of 7 hours which will be in place at the event. All entrants who do not complete the course in this time will receive a DNF.\nRace Numbers\nRace numbers are to be collected from Race HQ at the Caldecotte Arms. Please leave at least 20 minutes to complete this process.\nBag Drop\nWhile there is no secure baggage drop at the event\, the looped-nature of the course means entrants are free to leave their bags at the start/finish as there will always be someone around \nLocation\nPremier Inn Milton Keynes South hotel\, The Caldecotte\, Pub and Grill\, Lakeside Grove\, Milton Keynes MK7 8HP\, UK
URL:https://allaboutmagazine.co.uk/whatson/winter-enigma-marathon/
CATEGORIES:To Do
END:VEVENT
BEGIN:VEVENT
DTSTART;TZID=UTC:20221210T110000
DTEND;TZID=UTC:20221210T170000
DTSTAMP:20260423T133512
CREATED:20221007T103024Z
LAST-MODIFIED:20221007T103024Z
UID:32644-1670670000-1670691600@allaboutmagazine.co.uk
SUMMARY:Christmas Market
DESCRIPTION:Come and vist the beautiful Bradwell Abbey\, and get into the spirit of Christmas at our Christmas Fayre. \nGifts\, stalls\, & food. Venue: Bradwell Abbey\, Milton Keynes MK13 9AP
URL:https://allaboutmagazine.co.uk/whatson/christmas-market/
CATEGORIES:To Do
END:VEVENT
BEGIN:VEVENT
DTSTART;TZID=UTC:20221201T190000
DTEND;TZID=UTC:20221201T220000
DTSTAMP:20260423T133512
CREATED:20221007T100704Z
LAST-MODIFIED:20221007T100704Z
UID:32641-1669921200-1669932000@allaboutmagazine.co.uk
SUMMARY:Christmas Wreath Workshop
DESCRIPTION:We are partnering with the talented florists at Heaven Scent Flowers and Events to bring you and evening of festive crafting here at Abbey Hill. \nCome and enjoy a glass of mulled wine and a mince pie whilst creating a beautiful Christmas wreath ready for the festive season. \nThe event will run in the evening on Wednesday 1st December from 7.00pm until 10.00pm and tickets are £38.00 per person \nAll you need to bring is a pair of gardening gloves and some scissors and we will provide the rest! \nCall the office on 01908 570952 to book your place.Christmas Wreath Workshop at Abbey Hill Golf Centre\, Monks Way\, Milton Keynes \n 
URL:https://allaboutmagazine.co.uk/whatson/christmas-wreath-workshop/
CATEGORIES:To Do
END:VEVENT
BEGIN:VEVENT
DTSTART;VALUE=DATE:20221008
DTEND;VALUE=DATE:20221009
DTSTAMP:20260423T133512
CREATED:20220825T114553Z
LAST-MODIFIED:20220826T054938Z
UID:31612-1665187200-1665273599@allaboutmagazine.co.uk
SUMMARY:MK Oktoberfest 2022
DESCRIPTION:Giant Oktoberfest Tent\, Fancy Dress and plenty of fun frolics and games. \nRegister for tickets here – www.mkoktoberfest.co.uk
URL:https://allaboutmagazine.co.uk/whatson/mk-oktoberfest-2022/
LOCATION:Milton Keynes\, Campbell Park\, Milton Keynes\, MK9 4A\, United Kingdom
CATEGORIES:Food Festival,To Do
END:VEVENT
BEGIN:VEVENT
DTSTART;TZID=UTC:20220917T100000
DTEND;TZID=UTC:20220917T180000
DTSTAMP:20260423T133512
CREATED:20220825T110630Z
LAST-MODIFIED:20220831T133555Z
UID:31592-1663408800-1663437600@allaboutmagazine.co.uk
SUMMARY:Milton Keynes Food Festival
DESCRIPTION:Join us on Saturday 17th September 2022 for a great day out at Campbell Park. – Street food – Drink – Artisan Products – Music and more! \n\n\nAbout this event\n\n\n\nPlease note that due to the 10000 person capacity on site there may be times when you may have to queue for access in busy periods. \nWe will run to Government guidelines on Covid with a rollover or refund policy and refunds allowable up to 7 days before should your plans change in any case. \n\n\n\n\n\nStreet Food\nDrink\nArtisan Products\nMusic and More
URL:https://allaboutmagazine.co.uk/whatson/milton-keynes-food-festival/
LOCATION:Milton Keynes\, Campbell Park\, Milton Keynes\, MK9 4A\, United Kingdom
CATEGORIES:Food Festival,To Do
END:VEVENT
END:VCALENDAR