BEGIN:VCALENDAR
VERSION:2.0
PRODID:-//All About Magazine - ECPv6.15.20//NONSGML v1.0//EN
CALSCALE:GREGORIAN
METHOD:PUBLISH
X-WR-CALNAME:All About Magazine
X-ORIGINAL-URL:https://allaboutmagazine.co.uk
X-WR-CALDESC:Events for All About Magazine
REFRESH-INTERVAL;VALUE=DURATION:PT1H
X-Robots-Tag:noindex
X-PUBLISHED-TTL:PT1H
BEGIN:VTIMEZONE
TZID:UTC
BEGIN:STANDARD
TZOFFSETFROM:+0000
TZOFFSETTO:+0000
TZNAME:UTC
DTSTART:20210101T000000
END:STANDARD
END:VTIMEZONE
BEGIN:VEVENT
DTSTART;TZID=UTC:20240801T190000
DTEND;TZID=UTC:20240801T190000
DTSTAMP:20260420T175116
CREATED:20240613T125737Z
LAST-MODIFIED:20240613T125737Z
UID:34015-1722538800-1722538800@allaboutmagazine.co.uk
SUMMARY:Jimmy Carr - Laughs Funny
DESCRIPTION:Jimmy Carr’s brand new live tour\, Laughs Funny\, is on sale now. Jimmy Carr laughs funny and he wants to make you laugh by being funny. All new material – see Jimmy Carr live with his brand new show\, Laughs Funny\, in Milton Keynes.
URL:https://allaboutmagazine.co.uk/whatson/jimmy-carr-laughs-funny/
LOCATION:Milton Keynes Theatre\, 500 Marlborough Gate\, Central Milton Keynes
CATEGORIES:Comedy,Nights Out
END:VEVENT
BEGIN:VEVENT
DTSTART;TZID=UTC:20240713T000000
DTEND;TZID=UTC:20240713T000000
DTSTAMP:20260420T175116
CREATED:20240408T113208Z
LAST-MODIFIED:20240408T113208Z
UID:33896-1720828800-1720828800@allaboutmagazine.co.uk
SUMMARY:John Bishop: Back At It
DESCRIPTION:Comedy superstar John Bishop is getting Back At It – doing what he does best – with a new UK stand-up tour for 2024. \nAfter two years spent TV presenting\, stage acting\, podcast hosting\, dog walking and decorating the spare room\, John is getting back to the thing he loves most; standing on stage and making people laugh. \nAge guidance: Over 14s only. Under 16s must be accompanied by an adult over 18. \n4pm and 8pm shows \n 
URL:https://allaboutmagazine.co.uk/whatson/john-bishop-back-at-it/
LOCATION:Milton Keynes Theatre\, 500 Marlborough Gate\, Central Milton Keynes
CATEGORIES:Comedy,Theatre
END:VEVENT
BEGIN:VEVENT
DTSTART;TZID=UTC:20240623T193000
DTEND;TZID=UTC:20240623T193000
DTSTAMP:20260420T175116
CREATED:20240408T095823Z
LAST-MODIFIED:20240408T095922Z
UID:33883-1719171000-1719171000@allaboutmagazine.co.uk
SUMMARY:Brian Conley - The 3rd Farewell Tour
DESCRIPTION:Brian Conley is back on the road with a brand-new tour. Join the multi-award-winning star of the West End and countless hit TV series for an evening of comedy\, music\, and entertainment.
URL:https://allaboutmagazine.co.uk/whatson/brianconleythe3rdfarewelltour/
LOCATION:Milton Keynes Theatre\, 500 Marlborough Gate\, Central Milton Keynes
CATEGORIES:Comedy,Nights Out
END:VEVENT
BEGIN:VEVENT
DTSTART;TZID=UTC:20240523T193000
DTEND;TZID=UTC:20240523T193000
DTSTAMP:20260420T175116
CREATED:20240326T104153Z
LAST-MODIFIED:20240326T104839Z
UID:33816-1716492600-1716492600@allaboutmagazine.co.uk
SUMMARY:Ed Gamble - Hot Diggity Dog
DESCRIPTION:There will be all your classic Gamble ranting\, raving and spluttering but he’s doing fine mentally. Promise \n\n\n\n\nCo-host of the award-winning mega-hit podcast Off Menu with James Acaster\, judge on Great British Menu\, Taskmaster champion and host of Taskmaster The Podcast\, and now host of The Traitors: Uncloaked\, Ed also has his own special Blood Sugar available worldwide on Amazon Prime. \n\n\n\n\n\nAlso seen and heard on Mock The Week (BBC2)\, Live At The Apollo (BBC)\, and on Sunday mornings on Radio X alongside Matthew Crosby.\n\n 
URL:https://allaboutmagazine.co.uk/whatson/edgamblehotdiggitydog/
LOCATION:Milton Keynes Theatre\, 500 Marlborough Gate\, Central Milton Keynes
CATEGORIES:Comedy,Nights Out,Theatre
END:VEVENT
BEGIN:VEVENT
DTSTART;TZID=UTC:20240508T200000
DTEND;TZID=UTC:20240508T230000
DTSTAMP:20260420T175116
CREATED:20240205T114028Z
LAST-MODIFIED:20240205T114536Z
UID:33579-1715198400-1715209200@allaboutmagazine.co.uk
SUMMARY:Count Arthur Strong: And It’s Goodnight From Him
DESCRIPTION:Having consulted with top Harley Street specialists\, the St Anne’s Jombulance Brigade and Professor Twitty\, that did covid\, (the bald one)\, Count Arthur Strong has decided to gradually phase in his farewell tour over a\, yet to be specified number of parts\, because of the likelihood of people doing ‘Cold Turkey’ in theatres over him. Whilst partial\, himself to the odd bit of cold turkey\, it is banned in most theatre auditoriums\, apart from in the north east\, because of it getting trodden in to the carpets etc\, and the cumulative smell. The management would appreciate your co-operation in this matter.
URL:https://allaboutmagazine.co.uk/whatson/count-arthur-strong-and-its-goodnight-from-him/
LOCATION:The Stables\, Stockwell Lane\, Wavendon\, Milton Keynes\, MK17 8LU
CATEGORIES:Comedy,Nights Out
END:VEVENT
BEGIN:VEVENT
DTSTART;TZID=UTC:20240412T190000
DTEND;TZID=UTC:20240412T190000
DTSTAMP:20260420T175116
CREATED:20240125T111353Z
LAST-MODIFIED:20240125T111446Z
UID:33554-1712948400-1712948400@allaboutmagazine.co.uk
SUMMARY:Fawlty Towers Dinner Show
DESCRIPTION:Join us for the dinner event of the year which combines fine food and classic comedy action as Basil\, Sybil and Manuel do their very best to look after you the only way they no how. Chaos and mayhem are served in large portions and very likely to interrupt the proceedings\, but all should end well\, as the of hotel and catering management do everything they can to keep the evening on course! \nThe Germans have booked the Function Suite Basil is not Happy!! \nThe Health Inspector is going to pay a visit\, and Manuel’s Hamster (Rat) is nowhere to be found. \nExpect a big fun night out in a friendly party atmosphere with some of the finest comedy actors in the land\, professionally produced to the highest standards and with your enjoyment always at the top of the menu.  A faultless show that guarantees to reach chuckle muscles you never knew you had!
URL:https://allaboutmagazine.co.uk/whatson/fawltytowersdinnershow/
LOCATION:The Cock Hotel 72-74 High Street\, Stony Stratford\, MILTON KEYNES
CATEGORIES:Comedy,Nights Out
END:VEVENT
BEGIN:VEVENT
DTSTART;TZID=UTC:20240411T193000
DTEND;TZID=UTC:20240411T193000
DTSTAMP:20260420T175116
CREATED:20240125T105242Z
LAST-MODIFIED:20240125T105340Z
UID:33547-1712863800-1712863800@allaboutmagazine.co.uk
SUMMARY:Frank Skinner: 30 Years of Dirt
DESCRIPTION:Following a sell-out run at the Edinburgh Fringe and 7-nights at the Lyric Theatre in London’s West End\, comic legend Frank Skinner is back with his critically acclaimed new show ‘30 Years of Dirt’.
URL:https://allaboutmagazine.co.uk/whatson/frankskinner30yearsofdirt/
LOCATION:Milton Keynes Theatre\, 500 Marlborough Gate\, Central Milton Keynes
CATEGORIES:Comedy,Nights Out,Theatre
END:VEVENT
BEGIN:VEVENT
DTSTART;TZID=UTC:20240410T193000
DTEND;TZID=UTC:20240410T193000
DTSTAMP:20260420T175116
CREATED:20240125T110830Z
LAST-MODIFIED:20240125T110910Z
UID:33551-1712777400-1712777400@allaboutmagazine.co.uk
SUMMARY:Frankie Boyle - Lap Of Shame
DESCRIPTION:Frankie Boyle’s on tour. Buy a ticket\, because by the time he arrives\, the currency will be worthless and you and your neighbours part of a struggling militia that could probably use a few laughs.
URL:https://allaboutmagazine.co.uk/whatson/frankieboylelapofshame/
LOCATION:Milton Keynes Theatre\, 500 Marlborough Gate\, Central Milton Keynes
CATEGORIES:Comedy,Nights Out,Theatre
END:VEVENT
BEGIN:VEVENT
DTSTART;TZID=UTC:20240323T113000
DTEND;TZID=UTC:20240323T150000
DTSTAMP:20260420T175116
CREATED:20240125T114548Z
LAST-MODIFIED:20240315T100227Z
UID:33561-1711193400-1711206000@allaboutmagazine.co.uk
SUMMARY:Disney Drag Bottomless Brunch
DESCRIPTION:  \nThe Disney Drag Bottomless Brunch\n23rd March 2024 / Milton Keynes  \nThe DISNEY DRAG Bottomless Brunch Is Coming To MILTON KEYNES!  \nWelcome All Qweens & Kings\, Beauties & Beasts To ‘Wish Upon A Star’ And Attend The Booziest Brunch Across The Land. Category Is … DISNEY\, DRAG And BRUNCH!\nBringing You A Magical Experience Like No Other To ‘Sashay Away‘ With Us To Your Happy Ever Hour!\nBippity Boppity Booze B*$#h \nEVENT INFO:\nLive Disney Drag Performances\n3 Hours Of Your Favourite Disney Hits Mixed By Our Resident DJ!\nDress Up Encouraged Disney\, Heros\, Villain or Drag Inspired\n60 Minutes Bottomless Booze View Menu\nDelicious Brunch View Menu \nEVENT TIMES:\nDoors / Arrival Time: 12:00pm\nEvent / Entertainment:12:30pm – 3:30pm\nBottomless: 12:30pm – 1:30pm \nVENUE:\nBlossom Room\, The Hub\, 4 Mortimer Square\, Milton Keynes MK9 2FB \nBook Your Tickets Here\nMUSIC POLICY:\nAll Your Fairytale Favourites Fit For A Qween Mixed & Mashed Taking You On An Wild Fantasy Adventure – Mickey Mouse\, Frozen\, The Little Mermaid\, Aladdin\, Toy Story\, Peter Pan\, The Lion King\, 101 Dalmatians\, Beaty And The Beast\, Snow White And The Seven Dwarfs\, Pirates Of The Caribbean\, Bambi\, The Lady And The Tramp\, The Emperor’s New Groove\, The Jungle Book\, Tarzan\, Chicken Little\, Monsters Inc\, Hercules\, Mulan\, Pocahontas & More!\n+ All Your Favourite Party Starters\, Singalongs & Classic Club Anthems \nIMPORTANT INFO:\nThe Artists Pictured In Our Event Artwork Are Not Performing Unless Advertised In The Event Description\nSome Of Our Venues Have Large Tables & Some Groups May Be Seated Together For Large Groups\nPlease Purchase Multiple Tables Under The Same Booking Name To Be Seated Together\nPlease Read Our Brunch Club T&C / Covid Guidelines: \nIf You Have Any Questions About Our Events / Ticketing Please Check Our Frequently Asked Questions “FAQ’s”: \nPackages / Large Group Bookings – Please Visit:\nFood Allergies – Please Complete Our Allergy Form:\nThis Event Is 18+ Adults Only
URL:https://allaboutmagazine.co.uk/whatson/disneydragbottomlessbrunch/
LOCATION:Blossom Room\, The Hub\, 4 Mortimer Square\, Milton Keynes MK9 2FB
CATEGORIES:Comedy,Nights Out,To Do
END:VEVENT
BEGIN:VEVENT
DTSTART;TZID=UTC:20240314T200000
DTEND;TZID=UTC:20240314T200000
DTSTAMP:20260420T175116
CREATED:20240125T103745Z
LAST-MODIFIED:20240125T103925Z
UID:33543-1710446400-1710446400@allaboutmagazine.co.uk
SUMMARY:Reginald D Hunter
DESCRIPTION:Reginald has become one of the Comedy industry’s best-known performers for his distinctive take on the most diverse range of subjects. Brutally honest and is often considered to be controversial but it is always meticulously thought out and he has never been afraid to face challenging issues head on even when the focus is on his own principles or beliefs.
URL:https://allaboutmagazine.co.uk/whatson/reginalddhunter/
LOCATION:The Stables\, Stockwell Lane\, Wavendon\, Milton Keynes\, MK17 8LU
CATEGORIES:Comedy,Nights Out
END:VEVENT
BEGIN:VEVENT
DTSTART;TZID=UTC:20240205T200000
DTEND;TZID=UTC:20240205T220000
DTSTAMP:20260420T175116
CREATED:20231129T102201Z
LAST-MODIFIED:20231129T102201Z
UID:33475-1707163200-1707170400@allaboutmagazine.co.uk
SUMMARY:Chris McCausland: Yonks!
DESCRIPTION: A brand-new show for 2024! \n\n\n\n\n\n\n\n\n\nYou might have seen him on Scared of the Dark\, Would I Lie to You\, Have I Got News for You\, The Royal Variety\, QI\, Blankety Blank\, The Last Leg\, and tons more as well. \n\n\n\n\n\nHe’s been called an “overnight success” – Even though he’s been doing this for bloody yonks!\n\n\n\nChris McCausland is hitting the road again with another masterclass in stand-up comedy that has literally been yonks in the making – \nThe last tour was a sell-out\, so get your tickets now \nAge guidance: 16+ \n 
URL:https://allaboutmagazine.co.uk/whatson/chris-mccausland-yonks/
CATEGORIES:Comedy
END:VEVENT
BEGIN:VEVENT
DTSTART;TZID=UTC:20240119T193000
DTEND;TZID=UTC:20240119T193000
DTSTAMP:20260420T175116
CREATED:20231117T093748Z
LAST-MODIFIED:20231117T093748Z
UID:33434-1705692600-1705692600@allaboutmagazine.co.uk
SUMMARY:Guz Khan Live!
DESCRIPTION:By popular demand\, Guz Khan adds more opportunities for you to see him on his kick-ass comedy tour! \n\n\n\n\n\n\n\n\nWhy go and see it?\nThis loveable\, funny guy is known for bringing his big-screen persona and BAFTA-nominated hilarity to the stand-up stage. Guz Khan Live!\n\n\n\n\n\n\n\n\n\nGuz is the creator and star of BBC’s Man Like Mobeen\, alongside his appearances on Taskmaster (C4)\, The Last Leg (C4)\, Live at the Apollo (BBC)\, Would I Lie To You (BBC)\, QI (BBC)\, Four Weddings and A Funeral (Hulu)\, & movies Army of Thieves and The Bubble (Netflix)\, How To Date Billy Walsh (Amazon) and much more.
URL:https://allaboutmagazine.co.uk/whatson/guz-khan-live/
LOCATION:Milton Keynes Theatre\, 500 Marlborough Gate\, Central Milton Keynes
CATEGORIES:Comedy
END:VEVENT
BEGIN:VEVENT
DTSTART;TZID=UTC:20230926T193000
DTEND;TZID=UTC:20230926T220000
DTSTAMP:20260420T175116
CREATED:20230814T111504Z
LAST-MODIFIED:20230814T111504Z
UID:33254-1695756600-1695765600@allaboutmagazine.co.uk
SUMMARY:Tim Vine – Breeeep!
DESCRIPTION:It’s Tim Vine and he’s back with a brand new stand-up show! \nCome and enjoy a mountain of nonsense\, daft one-liners\, joyful songs\, wobbly props and ridiculous humour. (Plus utter drivel.) Witness the stupidity. Then leave. Switched on the Christmas lights in Cheam two years on the run. All tickets non-repundable \nCost of Entry: Tickets available from £29.43\n 
URL:https://allaboutmagazine.co.uk/whatson/tim-vine-breeeep/
LOCATION:Milton Keynes Theatre\, 500 Marlborough Gate\, Central Milton Keynes
CATEGORIES:Comedy
END:VEVENT
BEGIN:VEVENT
DTSTART;TZID=UTC:20230716T200000
DTEND;TZID=UTC:20230716T220000
DTSTAMP:20260420T175116
CREATED:20230519T093421Z
LAST-MODIFIED:20230519T093421Z
UID:33142-1689537600-1689544800@allaboutmagazine.co.uk
SUMMARY:An Evening With Andy Hamilton
DESCRIPTION:Award-winning comedy writer\, performer and comedian. Known to millions for his appearances on ‘Have I Got News For You’\, ‘QI’\, ‘I’m Sorry I Haven’t A Clue’\, ‘Not The Nine O’Clock News’\, ‘Drop The Dead Donkey’ and many more.
URL:https://allaboutmagazine.co.uk/whatson/an-evening-with-andy-hamilton/
LOCATION:The Stables\, Stockwell Lane\, Wavendon\, Milton Keynes\, MK17 8LU
CATEGORIES:Comedy
END:VEVENT
BEGIN:VEVENT
DTSTART;TZID=UTC:20230415T193000
DTEND;TZID=UTC:20230415T220000
DTSTAMP:20260420T175116
CREATED:20230222T102301Z
LAST-MODIFIED:20230427T085134Z
UID:32931-1681587000-1681596000@allaboutmagazine.co.uk
SUMMARY:Sara Pascoe: Success Story
DESCRIPTION:Sara decided she wanted to be famous at 14 years old. Since then\, she has auditioned for Barrymore\, scared Pete Burns and ruined Hugh Grant’s birthday – but look at her now… (please look\, she needs you to look. And clap. And laugh. And then clap again). \nThe star of BBC2 stand-up special Sara Pascoe: LadsLadsLads is back with a brand-new stand-up show! Sara Pascoe is a highly acclaimed comedian\, writer\, and actor. She wrote and starred in her recent BBC2 sitcom Out Of Her Mind\, and is the celebrated host of BBC2’s The Great British Sewing Bee\, BBC’s Last Woman On Earth\, Dave’s Comedians Giving Lectures and Comedy Central’s Guessable. \nSara also wrote and performed the BBC Radio 4 series Modern Monkey and the BBC2 short Sara Pascoe vs Monogamy\, which was inspired by her first book Animal. Her second book\, Sex Power Money\, was a Sunday Times bestseller\, and the accompanying podcast of the same name garnered millions of listens and multiple award nominations during its run.
URL:https://allaboutmagazine.co.uk/whatson/sara-pascoe-success-story/
LOCATION:Milton Keynes Theatre\, 500 Marlborough Gate\, Central Milton Keynes
CATEGORIES:Comedy
END:VEVENT
BEGIN:VEVENT
DTSTART;TZID=UTC:20221030T193000
DTEND;TZID=UTC:20221030T223000
DTSTAMP:20260420T175116
CREATED:20220831T141350Z
LAST-MODIFIED:20220831T141420Z
UID:32539-1667158200-1667169000@allaboutmagazine.co.uk
SUMMARY:Harry Hill - Pedigree Fun
DESCRIPTION:His collar is popped\, his head is polished\, and his glasses prescription is up to date – Harry Hill is ready to tour again! The wacky comedian is ready to bring the laughs with his brand new show\, ‘Pedigree Fun!’ With all-new jokes\, crazy animal characters (including Stouffer the cat)\, and his signature surrealistic verve\, Harry promises an all-singing\, all-dancing one-man spectacular for his first post lockdown outing – and we’re sure he’ll deliver! \nA deft purveyor of wit and whimsy\, Harry Hill has been delighting audiences via live shows\, television\, and radio since winning the Perrier Award at 1992’s Edinburgh Festival. Known for his larger-than-life look and ability to find the absurd in almost any subject\, the registered doctor (yes\, really) has also turned his hand to novels and written two musicals. \nMilton Keynes Theatre\n\nMalborough Gate\, Milton Keynes\, South East MK9 3NZ \n\n 
URL:https://allaboutmagazine.co.uk/whatson/harry-hill-pedigree-fun/
CATEGORIES:Comedy
END:VEVENT
END:VCALENDAR