BEGIN:VCALENDAR
VERSION:2.0
PRODID:-//All About Magazine - ECPv6.15.20//NONSGML v1.0//EN
CALSCALE:GREGORIAN
METHOD:PUBLISH
X-ORIGINAL-URL:https://allaboutmagazine.co.uk
X-WR-CALDESC:Events for All About Magazine
REFRESH-INTERVAL;VALUE=DURATION:PT1H
X-Robots-Tag:noindex
X-PUBLISHED-TTL:PT1H
BEGIN:VTIMEZONE
TZID:UTC
BEGIN:STANDARD
TZOFFSETFROM:+0000
TZOFFSETTO:+0000
TZNAME:UTC
DTSTART:20230101T000000
END:STANDARD
END:VTIMEZONE
BEGIN:VEVENT
DTSTART;TZID=UTC:20241103T194500
DTEND;TZID=UTC:20241103T194500
DTSTAMP:20260420T204441
CREATED:20240917T111958Z
LAST-MODIFIED:20240917T112027Z
UID:34245-1730663100-1730663100@allaboutmagazine.co.uk
SUMMARY:Paddy McGuinness: Nearly There...
DESCRIPTION:Paddy McGuinness is a much-loved presence on British TV\, from his legendary acting roles in Phoenix Nights\, Max and Paddy and The Keith and Paddy Picture Show to presenting primetime TV shows such as Take Me Out and BBC’s Top Gear\, as well as having sold out hundreds of venues across the country on his stand-up tours. \n\n\n\n\n\nIn 2021 Paddy released his acclaimed autobiography My Lifey. Now Paddy is raring to get back to where he belongs–on stage\, making people laugh\, with his hotly anticipated show.
URL:https://allaboutmagazine.co.uk/whatson/paddymcguinnessnearlythere/
CATEGORIES:Comedy,Nights Out,Theatre,To Do
END:VEVENT
END:VCALENDAR