BEGIN:VCALENDAR
VERSION:2.0
PRODID:-//All About Magazine - ECPv6.15.20//NONSGML v1.0//EN
CALSCALE:GREGORIAN
METHOD:PUBLISH
X-ORIGINAL-URL:https://allaboutmagazine.co.uk
X-WR-CALDESC:Events for All About Magazine
REFRESH-INTERVAL;VALUE=DURATION:PT1H
X-Robots-Tag:noindex
X-PUBLISHED-TTL:PT1H
BEGIN:VTIMEZONE
TZID:UTC
BEGIN:STANDARD
TZOFFSETFROM:+0000
TZOFFSETTO:+0000
TZNAME:UTC
DTSTART:20240101T000000
END:STANDARD
END:VTIMEZONE
BEGIN:VEVENT
DTSTART;TZID=UTC:20250817T110000
DTEND;TZID=UTC:20250817T163000
DTSTAMP:20260419T175220
CREATED:20250703T110510Z
LAST-MODIFIED:20250703T110510Z
UID:34828-1755428400-1755448200@allaboutmagazine.co.uk
SUMMARY:Midday Moo 2025
DESCRIPTION:Moo-ve for your local Hospice and walk 5 or 10 miles at our Midday Moo\, sponsored by Marshall Amplification. \nThis event promises a fun\, sociable atmosphere with your family or friends as you make your way around the route. Enjoy a free drink at our pit stops\, The Good Gym MK\, and The Talbot Inn (10 miles only) and take in the beauty spots of MK. \nOur Midday Moo is open to young fundraisers aged 14+ and well-behaved dogs are welcome to join as long as they can cover the distance\, or have a pushchair to rest in. You must clean up after your dog and ensure they have enough food and water. \nFundraise for Willen Hospice\nWe kindly ask our Midday Moo-ers to fundraise £100 each\, or £350 as a team. \nThe costs of entry covers the event itself\, it’s the sponsorship that makes all the difference for the families in our care. \nWe only receive 13.8% of ongoing funding from the NHS\, which means we rely on the local community to help us raise £8.7 million each year.
URL:https://allaboutmagazine.co.uk/whatson/midday-moo-2025/
LOCATION:MK Rugby Club\, Bowland Drive\, Milton Keynes\, MK4 2DN\, United Kingdom
CATEGORIES:Charity Events,To Do
ATTACH;FMTTYPE=image/jpeg:https://allaboutmagazine.co.uk/wp-content/uploads/2025/07/67c5cbbda4b1b.jpg
END:VEVENT
END:VCALENDAR